BEGIN:VCALENDAR
VERSION:2.0
PRODID:-//Department Of Education//534640d3-433e-485b-acf8-bbe3af593bee
BEGIN:VTIMEZONE
TZID:Australia/Sydney
TZURL:http://tzurl.org/zoneinfo-outlook/Australia/Sydney
X-LIC-LOCATION:Australia/Sydney
BEGIN:STANDARD
TZOFFSETFROM:+1100
TZOFFSETTO:+1000
TZNAME:AEST
DTSTART:19700405T030000
RRULE:FREQ=YEARLY;BYMONTH=4;BYDAY=1SU
END:STANDARD
BEGIN:DAYLIGHT
TZOFFSETFROM:+1000
TZOFFSETTO:+1100
TZNAME:AEDT
DTSTART:19701004T020000
RRULE:FREQ=YEARLY;BYMONTH=10;BYDAY=1SU
END:DAYLIGHT
END:VTIMEZONE
CALSCALE:GREGORIAN
X-WR-TIMEZONE:Australia/Sydney
BEGIN:VEVENT
DTSTART;VALUE=DATE:20210128
DTEND;VALUE=DATE:20210129
DTSTAMP:20210128T000000Z
UID:3d537d6e-020f-4abc-9a98-370b37031d2a
LOCATION:Rps
SUMMARY;LANGUAGE=en-us:Year 1 - 6 Students return for 2021
SEQUENCE:0
DESCRIPTION:Students in Year 1 - 6 return to school today for Term 1 2021.
END:VEVENT
TRANSP:TRANSPARENT
END:VCALENDAR
