BEGIN:VCALENDAR
VERSION:2.0
PRODID:-//Department Of Education//1917eaeb-fe2d-4818-9dd4-8e367c68a44c
BEGIN:VTIMEZONE
TZID:Australia/Sydney
TZURL:http://tzurl.org/zoneinfo-outlook/Australia/Sydney
X-LIC-LOCATION:Australia/Sydney
BEGIN:STANDARD
TZOFFSETFROM:+1100
TZOFFSETTO:+1000
TZNAME:AEST
DTSTART:19700405T030000
RRULE:FREQ=YEARLY;BYMONTH=4;BYDAY=1SU
END:STANDARD
BEGIN:DAYLIGHT
TZOFFSETFROM:+1000
TZOFFSETTO:+1100
TZNAME:AEDT
DTSTART:19701004T020000
RRULE:FREQ=YEARLY;BYMONTH=10;BYDAY=1SU
END:DAYLIGHT
END:VTIMEZONE
CALSCALE:GREGORIAN
X-WR-TIMEZONE:Australia/Sydney
BEGIN:VEVENT
DTSTART;TZID=Australia/Sydney:20200301T090033
DTEND;TZID=Australia/Sydney:20200301T140044
DTSTAMP:20200301T000000Z
UID:47b35f16-93c0-4f10-b69e-568c55c50aec
LOCATION:TBA
SUMMARY;LANGUAGE=en-us:Community Fishing Trip
SEQUENCE:0
DESCRIPTION:Let?s Go Fishing! Attention all anglers! It?s time to join your school community fishing club   Can you fish? Would you like to fish?       Adults must hold Recreational  Fishing License. Visit www.dpi.nsw.gov.au  (Do n?t   worry, w e ca n pro v ide th e g ear and trai ni ng )   Sunday 1st March            Please join us on the shores of Lake Illawarra We will meet at 9:30am At Windang Foreshore Park, A BBQ lunch will be provided     There will be bragging rights! For, §  The first fish caught ˇ        Largest fish caught and §  Most fish caught   School Community Fishing Day  Sunday 1st March (Please return to office)
END:VEVENT
TRANSP:TRANSPARENT
END:VCALENDAR
